BEGIN:VCALENDAR
VERSION:2.0
PRODID:-//ESPACIO ORION - ECPv6.15.20//NONSGML v1.0//EN
CALSCALE:GREGORIAN
METHOD:PUBLISH
X-ORIGINAL-URL:https://academiaespacioorion.online
X-WR-CALDESC:Eventos para ESPACIO ORION
REFRESH-INTERVAL;VALUE=DURATION:PT1H
X-Robots-Tag:noindex
X-PUBLISHED-TTL:PT1H
BEGIN:VTIMEZONE
TZID:America/Argentina/Buenos_Aires
BEGIN:STANDARD
TZOFFSETFROM:-0300
TZOFFSETTO:-0300
TZNAME:-03
DTSTART:20250101T000000
END:STANDARD
END:VTIMEZONE
BEGIN:VEVENT
DTSTART;TZID=America/Argentina/Buenos_Aires:20260508T190000
DTEND;TZID=America/Argentina/Buenos_Aires:20260712T210000
DTSTAMP:20260419T130736
CREATED:20260210T220037Z
LAST-MODIFIED:20260227T205553Z
UID:45007-1778266800-1783890000@academiaespacioorion.online
SUMMARY:MICROSISTEMAS TAOISTAS EN MEDICINA TRADICIONAL ORIENTAL
DESCRIPTION:💫MICROSISTEMAS TAOISTAS EN MEDICINA TRADICIONAL ORIENTAL\nPuentes invisibles del TAO\nModalidad online | A cargo de Ph.D Ac. Analía Santamaría y Keila Sulich\n\n\nMAESTRÍA INTERNACIONAL 📜👨🏻‍🎓\n\n\n📝 MODALIDAD CURSADO\n\n🗓️ Inicio: jueves 7 de mayo\n🕒 Horario de mentorías: 18: 30hs a 20: 30hs\n📍 Modalidad: Online y presencial (elegís la modalidad)\n⏳ Duración: 2 meses y medio (del 7 de mayo al 11 de julio)\n📜 Se entrega certificado de realización\n📚 Incluye manuales\, libro digital\, y prácticas guiadas\n♾️ Acceso de por vida al curso a través del campus educativo \n\n\n📌DESTINATARIOS\nProfesionales y estudiantes avanzados de Medicina Tradicional China\, acupuntores y terapeutas integrales \n\n📘 TEMARIO\n🔹Acupuntura Vietnamita\n🔹Acupuntura Ba Gua del craneo\n🔹 Acupuntura umbilical\n🔹 Acupuntura en mejilla\n🔹Acupuntura abdominal – tortuga celestial\n🔹Filosofía taoista : Dao (Tao) -Wúwéi (無為) – Zìrán (自然) – Yīn-Yáng – Wú (無) y Transformationes – Cultivo interno / cuerpo-mente\n🔹Armonización del Jing-Qi-Shen. \nPROGRAMA DE ESTUDIO \nDESCARGAR PROGRAMA DE ESTUDIO \n\n🚀 INSCRIPCIÓN ABIERTA 👉 ESCRIBINOS POR WHATSAPP\n \n(341 742-2647) \n\nObjetivo General\nIntegrar los fundamentos filosóficos del taoísmo con las técnicas contemporáneas de acupuntura avanzada (craneal\, abdominal\, umbilical y facial) y los sistemas cosmológicos del Bagua y el Ba Zi\, comprendiendo la práctica médica como vía de cultivo interno (Xiulian 修炼) y de armonización del Jing-Qi-Shen. \nLa lectura de Liu Zheng-Cai\, Acupuntura Taoísta permite articular el saber clásico con la experiencia clínica contemporánea: una acupuntura que no sólo corrige desequilibrios\, sino que restituye el movimiento armónico entre el Cielo (Tian)\, la Tierra (Di) y el Ser humano (Ren) \n\n☯️ ¿QUÉ ES EL TAOISMO?\nLa Medicina Tradicional China surge de una cosmovisión donde el cuerpo\, la naturaleza y el cosmos son expresiones de un mismo principio: el Dao 道.La práctica médica taoísta no separa la técnica del cultivo interior: toda intervención sobre el Qi del paciente implica una transformación simultánea del terapeuta.Este curso propone un recorrido por los fundamentos filosóficos del taoísmo y su aplicación práctica en técnicas acupunturales avanzadas —craneal\, abdominal\, umbilical y facial—\, integradas con los sistemas cosmológicos del Bagua (八卦)\, los Ocho Vasos Maravillosos y el Ba Zi (八字\, Cuatro Pilares del Destino). \nLa lectura de Liu Zheng-Cai\, Acupuntura Taoísta permite articular el saber clásico con la experiencia clínica contemporánea: una acupuntura que no sólo corrige desequilibrios\, sino que restituye el movimiento armónico entre el Cielo (Tian)\, la Tierra (Di) y el Ser humano (Ren). \n \n⚠️ Al igual que toda terapia complementaria\, no sustituye diagnósticos ni tratamientos médicos. \n\nCertificación Final \nAl finalizar\, el participante recibirá: \n\nDiploma del Instituto Espacio Orión®\nDiploma Internacional – CETEOH® Center\nCertificación oficial Secretaría de Trabajo y Previsión Social de México\n\n\n🚀 INSCRIPCIÓN ABIERTA 👉 ESCRIBINOS POR WHATSAPP\n \n(341 742-2647) \n\n⚠️ ACLARACIÓN LEGAL Y EDUCATIVA\n🎓 ¡Recibí triple certificación! 🎓 \n🟣 Al finalizar la formación\, accedés a: \n✅ Certificado de asistencia emitido por Espacio Instituto Orión\, que acredita tu participación y aprendizaje práctico en el curso.✅ Certificado Internacional  emitido conjuntamente por Instituto Espacio Orión y CETEOH® Center International College (México)\, con aval internacional\, válido ante la Secretaría del Trabajo y Previsión Social (México)\, y el respaldo de ASFI. \n🌍 Esta certificación internacional avala tus conocimientos y habilidades en\, y se encuentra registrada formalmente en organismos internacionales educativos y laborales. \nEsta formación no habilita al ejercicio de la medicina\, ni sustituye tratamientos médicos\, farmacológicos o quirúrgicos. Se ofrece como herramienta complementaria\, dentro del marco de las terapias holísticas y energéticas. \nEl Instituto Espacio Orión (I.E.P 2835/2025) brinda educación no formal. \n  \n 
URL:https://academiaespacioorion.online/evento/microsistemas-taoistas-en-medicina-tradicional-oriental/
CATEGORIES:cursos,formacion
ATTACH;FMTTYPE=image/png:https://academiaespacioorion.online/wp-content/uploads/2026/02/microsistema-taoista-medicina-oriental-espacio-orion-curso.png
END:VEVENT
END:VCALENDAR